BEGIN:VCALENDAR
VERSION:2.0
PRODID:-//Tukios.com/
BEGIN:VEVENT
UID:63e66537-3414-4cac-b7bc-124a5b4722d4@www.fayettememorialfuneralhome.com
DTSTAMP:20260421T125044Z
DTSTART:20260425T173000Z
DTEND:20260425T183000Z
SUMMARY:Burial
DESCRIPTION:
URL:https://www.fayettememorialfuneralhome.com/obituaries/lorena-mueller
LOCATION: 4301-4399 Old College Road  La Grange  78945
GEO:29.9395327;-96.7947394
END:VEVENT
END:VCALENDAR