BEGIN:VCALENDAR
VERSION:2.0
PRODID:-//Tukios.com/
BEGIN:VEVENT
UID:8baca859-439c-40c1-868a-a5f804e277a3@www.fayettememorialfuneralhome.com
DTSTAMP:20260421T125614Z
DTSTART:20260425T160000Z
DTEND:20260425T170000Z
SUMMARY:Funeral Service
DESCRIPTION:
URL:https://www.fayettememorialfuneralhome.com/obituaries/lorena-mueller
LOCATION: 967 E. Colorado Street  La Grange TX 78945
GEO:29.912636;-96.8660519
END:VEVENT
END:VCALENDAR