BEGIN:VCALENDAR
VERSION:2.0
PRODID:-//Tukios.com/
BEGIN:VEVENT
UID:7f6a29e5-3c77-4a5f-99e6-3a23bf9d29b9@www.fayettememorialfuneralhome.com
DTSTAMP:20260421T125442Z
DTSTART:20260425T150000Z
DTEND:20260425T160000Z
SUMMARY:Visitation
DESCRIPTION:
URL:https://www.fayettememorialfuneralhome.com/obituaries/lorena-mueller
LOCATION: 967 E. Colorado Street  La Grange TX 78945
GEO:29.912636;-96.8660519
END:VEVENT
END:VCALENDAR